BEGIN:VCALENDAR
VERSION:2.0
PRODID:-//eventon.com NONSGML v1.0//EN
CALSCALE:GREGORIAN
METHOD:PUBLISH
BEGIN:VEVENT
UID:69e74927e9cd1
DTSTAMP:20260421T095343Z
DTSTART:20260623T173000Z
DTEND:20260623T225900Z
LOCATION:
SUMMARY:FF Evening Racing
DESCRIPTION:FF Evening Racing\nhttps://rmyc.club/events/ff-evening-racing-1
 0/
URL:https://rmyc.club/events/ff-evening-racing-10/
END:VEVENT
END:VCALENDAR