BEGIN:VCALENDAR
VERSION:2.0
PRODID:-//eventon.com NONSGML v1.0//EN
CALSCALE:GREGORIAN
METHOD:PUBLISH
BEGIN:VEVENT
UID:69e8907b6673a
DTSTAMP:20260422T091019Z
DTSTART:20260728T173000Z
DTEND:20260728T225900Z
LOCATION:
SUMMARY:FF Evening Racing
DESCRIPTION:FF Evening Racing\nhttps://rmyc.club/events/ff-evening-racing-1
 5/
URL:https://rmyc.club/events/ff-evening-racing-15/
END:VEVENT
END:VCALENDAR