BEGIN:VCALENDAR
VERSION:2.0
PRODID:-//eventon.com NONSGML v1.0//EN
CALSCALE:GREGORIAN
METHOD:PUBLISH
BEGIN:VEVENT
UID:69e782d2c37e2
DTSTAMP:20260421T135946Z
DTSTART:20260625T183000Z
DTEND:20260625T225900Z
LOCATION:
SUMMARY:Mid Season Sailors Supper
DESCRIPTION:Exact time TBC\nhttps://rmyc.club/events/mid-season-sailors-sup
 per/
URL:https://rmyc.club/events/mid-season-sailors-supper/
END:VEVENT
END:VCALENDAR