BEGIN:VCALENDAR
VERSION:2.0
PRODID:-//eventon.com NONSGML v1.0//EN
CALSCALE:GREGORIAN
METHOD:PUBLISH
BEGIN:VEVENT
UID:69e6b481a9234
DTSTAMP:20260420T231929Z
DTSTART:20260114T200000Z
DTEND:20260114T235900Z
LOCATION:
SUMMARY:Quiz Night with Nikki Gray
DESCRIPTION:Quiz Night with Nikki Gray\nhttps://rmyc.club/events/quiz-night
 -with-nikki-gray/
URL:https://rmyc.club/events/quiz-night-with-nikki-gray/
END:VEVENT
END:VCALENDAR